BEGIN:VCALENDAR
VERSION:2.0
PRODID:-//Sistas Beyond Borders - ECPv6.15.20//NONSGML v1.0//EN
CALSCALE:GREGORIAN
METHOD:PUBLISH
X-WR-CALNAME:Sistas Beyond Borders
X-ORIGINAL-URL:https://sistasbeyondborders.org
X-WR-CALDESC:Events for Sistas Beyond Borders
REFRESH-INTERVAL;VALUE=DURATION:PT1H
X-Robots-Tag:noindex
X-PUBLISHED-TTL:PT1H
BEGIN:VTIMEZONE
TZID:UTC
BEGIN:STANDARD
TZOFFSETFROM:+0000
TZOFFSETTO:+0000
TZNAME:UTC
DTSTART:20240101T000000
END:STANDARD
END:VTIMEZONE
BEGIN:VEVENT
DTSTART;TZID=UTC:20250524T080000
DTEND;TZID=UTC:20250524T170000
DTSTAMP:20260419T140448
CREATED:20250907T200841Z
LAST-MODIFIED:20250907T201307Z
UID:3690-1748073600-1748106000@sistasbeyondborders.org
SUMMARY:Recap: The Intentional Woman 2025
DESCRIPTION:On May 24\, 2025\, the Sistas Beyond Borders Empowerment Foundation successfully hosted the Intentional Woman 2025 conference\, a landmark event that brought together women from diverse backgrounds to celebrate resilience\, share knowledge\, and inspire intentional living. \nHeld in [insert venue]\, the event created a vibrant space where women leaders\, professionals\, entrepreneurs\, survivors\, and advocates converged to amplify one shared message: women can thrive when they are empowered with purpose and support. \nHighlights of the event included: \n\n\nKeynote Sessions from leading voices in business\, advocacy\, and community development\, challenging women to embrace authenticity\, resilience\, and leadership. \n\n\nPanel Discussions that addressed pressing issues such as financial independence\, mental health\, breaking cycles of abuse\, and creating opportunities for women in underserved communities. \n\n\nStorytelling and Testimonies from survivors and everyday women who shared how intentional choices transformed their lives. \n\n\nNetworking & Mentorship Opportunities\, connecting participants with experienced mentors and partners committed to walking the journey with them. \n\n\nThe atmosphere was electrifying as women left the conference not just inspired\, but equipped with practical tools and resources to live deliberately and impactfully. \nAs Sistas Beyond Borders continues its mission to empower women and rebuild lives\, The Intentional Woman 2025 stands as a reminder that when women rise\, families\, communities\, and nations rise with them. \nLooking ahead\, the Foundation is already preparing for The Intentional Woman 2026\, building on the momentum of this year’s success to deliver even greater impact.
URL:https://sistasbeyondborders.org/event/recap-the-intentional-woman-2025/
LOCATION:Sentinel Event place\, 13A Ikorodu Road\, Maryland\, Lagos\, Nigeria
ATTACH;FMTTYPE=image/webp:https://sistasbeyondborders.org/wp-content/uploads/2025/09/IMG_1232-e1757279493690.webp
ORGANIZER;CN="Sistas Beyond Borders":MAILTO:info@sistasbeyondborders.org
END:VEVENT
END:VCALENDAR